BEGIN:VCALENDAR
VERSION:2.0
PRODID:-//BASIS - ECPv6.15.20//NONSGML v1.0//EN
CALSCALE:GREGORIAN
METHOD:PUBLISH
X-WR-CALNAME:BASIS
X-ORIGINAL-URL:https://basisthehague.nl
X-WR-CALDESC:Events for BASIS
REFRESH-INTERVAL;VALUE=DURATION:PT1H
X-Robots-Tag:noindex
X-PUBLISHED-TTL:PT1H
BEGIN:VTIMEZONE
TZID:Europe/Amsterdam
BEGIN:DAYLIGHT
TZOFFSETFROM:+0100
TZOFFSETTO:+0200
TZNAME:CEST
DTSTART:20170326T010000
END:DAYLIGHT
BEGIN:STANDARD
TZOFFSETFROM:+0200
TZOFFSETTO:+0100
TZNAME:CET
DTSTART:20171029T010000
END:STANDARD
BEGIN:DAYLIGHT
TZOFFSETFROM:+0100
TZOFFSETTO:+0200
TZNAME:CEST
DTSTART:20180325T010000
END:DAYLIGHT
BEGIN:STANDARD
TZOFFSETFROM:+0200
TZOFFSETTO:+0100
TZNAME:CET
DTSTART:20181028T010000
END:STANDARD
BEGIN:DAYLIGHT
TZOFFSETFROM:+0100
TZOFFSETTO:+0200
TZNAME:CEST
DTSTART:20190331T010000
END:DAYLIGHT
BEGIN:STANDARD
TZOFFSETFROM:+0200
TZOFFSETTO:+0100
TZNAME:CET
DTSTART:20191027T010000
END:STANDARD
END:VTIMEZONE
BEGIN:VEVENT
DTSTART;TZID=Europe/Amsterdam:20181016T170000
DTEND;TZID=Europe/Amsterdam:20181016T190000
DTSTAMP:20260421T183742
CREATED:20181010T102731Z
LAST-MODIFIED:20181016T101410Z
UID:7670-1539709200-1539716400@basisthehague.nl
SUMMARY:Academic Committee presents: "Haim Divon: 41 years in the life of an Israeli Diplomat"
DESCRIPTION:Registration for this event required:\nhttps://docs.google.com/forms/d/1IASpgGSbUH_5kkMLPW8lIwaGbuXQ8q2OgwVsawjIRf0 \nFormer Israeli Ambassador Haim Divon will come to Wijnhaven to give a talk on his 41 years of experience representing his country as a Diplomat. \n  \n 
URL:https://basisthehague.nl/events/academic-committee-presents-haim-divon-41-years-in-the-life-of-an-israeli-diplomat/
LOCATION:Wijnhaven Campus – Room 3.60\, Turfmarkt 99\, Den Haag\, 2511DP\, Netherlands
CATEGORIES:Academic
ORGANIZER;CN="Academic Committee":MAILTO:academic@basisthehague.nl
GEO:52.0786655;4.3200839
X-APPLE-STRUCTURED-LOCATION;VALUE=URI;X-ADDRESS=Wijnhaven Campus – Room 3.60 Turfmarkt 99 Den Haag 2511DP Netherlands;X-APPLE-RADIUS=500;X-TITLE=Turfmarkt 99:geo:4.3200839,52.0786655
END:VEVENT
END:VCALENDAR